BEGIN:VCALENDAR
VERSION:2.0
PRODID:-//New London County Historical Society - ECPv6.6.0.2//NONSGML v1.0//EN
CALSCALE:GREGORIAN
METHOD:PUBLISH
X-WR-CALNAME:New London County Historical Society
X-ORIGINAL-URL:https://www.nlchs.org
X-WR-CALDESC:Events for New London County Historical Society
REFRESH-INTERVAL;VALUE=DURATION:PT1H
X-Robots-Tag:noindex
X-PUBLISHED-TTL:PT1H
BEGIN:VTIMEZONE
TZID:America/New_York
BEGIN:DAYLIGHT
TZOFFSETFROM:-0500
TZOFFSETTO:-0400
TZNAME:EDT
DTSTART:20180311T070000
END:DAYLIGHT
BEGIN:STANDARD
TZOFFSETFROM:-0400
TZOFFSETTO:-0500
TZNAME:EST
DTSTART:20181104T060000
END:STANDARD
BEGIN:DAYLIGHT
TZOFFSETFROM:-0500
TZOFFSETTO:-0400
TZNAME:EDT
DTSTART:20190310T070000
END:DAYLIGHT
BEGIN:STANDARD
TZOFFSETFROM:-0400
TZOFFSETTO:-0500
TZNAME:EST
DTSTART:20191103T060000
END:STANDARD
END:VTIMEZONE
BEGIN:VEVENT
DTSTART;TZID=America/New_York:20190403T100000
DTEND;TZID=America/New_York:20190403T120000
DTSTAMP:20260419T111812
CREATED:20190330T203429Z
LAST-MODIFIED:20190330T203450Z
UID:4988-1554285600-1554292800@www.nlchs.org
SUMMARY:What’s Where? How to Research the Past
DESCRIPTION:Explore the basics of conducting traditional and online research in a four-session course. Every session will be held on Wednesday from 10 a.m. to 12 p.m. \nSession 1: March 20\nSession 2: March 27\nSession 3: April 3\nSession 4: April 10 \nRegistration: \n$40 for members of the New London County Historical Society. $60 for non-members. \nSpace very limited; pre-registration required by March 8th.
URL:https://www.nlchs.org/event/4988/
CATEGORIES:Research Classes
END:VEVENT
BEGIN:VEVENT
DTSTART;TZID=America/New_York:20190327T100000
DTEND;TZID=America/New_York:20190327T120000
DTSTAMP:20260419T111812
CREATED:20190330T203129Z
LAST-MODIFIED:20190330T203351Z
UID:4986-1553680800-1553688000@www.nlchs.org
SUMMARY:What’s Where? How to Research the Past
DESCRIPTION:Explore the basics of conducting traditional and online research in a four-session course. Every session will be held on Wednesday from 10 a.m. to 12 p.m. \nSession 1: March 20\nSession 2: March 27\nSession 3: April 3\nSession 4: April 10 \nRegistration: \n$40 for members of the New London County Historical Society. $60 for non-members. \nSpace very limited; pre-registration required by March 8th.
URL:https://www.nlchs.org/event/whats-where-how-to-research-the-past-2/
CATEGORIES:Research Classes
END:VEVENT
BEGIN:VEVENT
DTSTART;TZID=America/New_York:20190323T180000
DTEND;TZID=America/New_York:20190323T210000
DTSTAMP:20260419T111812
CREATED:20190330T212617Z
LAST-MODIFIED:20190330T212617Z
UID:5016-1553364000-1553374800@www.nlchs.org
SUMMARY:Murder Mystery at Shaw Mansion
DESCRIPTION:Mystery and intrigue are afoot at the Shaw Mansion in New London! NLCHS is partnering with Sanctum Simulations\, LLC to host a Murder Mystery Dinner on Saturday\, March 23\, 2019. Join us for dinner and a show as you step back in time and help Nathaniel Shaw Perkins Jr. discover hidden clues and plots that will lead investigators to the true identity of the murderer. Solve the case and enjoy a night out with friends in this unique opportunity to participate in an interactive Victorian-era mystery dinner in the historic Shaw Mansion. \nThe Murder Mystery Dinner will be held on Saturday March 23\, 2019 at 6:00pm. The Shaw Mansion is located at 11 Blinman Street in New London. On street parking is available on Bank Street and Blinman Street\, and in the municipal lot on Tilly Street. Seating for the dinner begins at 5:15pm. Tickets are limited! The cost of the dinner is $40 for members and $50 for nonmembers.
URL:https://www.nlchs.org/event/murder-mystery-at-shaw-mansion/
CATEGORIES:Arts & Entertainment
END:VEVENT
BEGIN:VEVENT
DTSTART;TZID=America/New_York:20190320T100000
DTEND;TZID=America/New_York:20190320T120000
DTSTAMP:20260419T111812
CREATED:20190330T202323Z
LAST-MODIFIED:20190330T203041Z
UID:4974-1553076000-1553083200@www.nlchs.org
SUMMARY:What’s Where? How to Research the Past 
DESCRIPTION:Explore the basics of conducting traditional and online research in a four-session course. Every session will be held on Wednesday from 10 a.m. to 12 p.m. \nSession 1: March 20\nSession 2: March 27\nSession 3: April 3\nSession 4: April 10 \nRegistration: \n$40 for members of the New London County Historical Society. $60 for non-members. \nSpace very limited; pre-registration required by March 8th.
URL:https://www.nlchs.org/event/whats-where-how-to-research-the-past/
END:VEVENT
BEGIN:VEVENT
DTSTART;TZID=America/New_York:20180916T150000
DTEND;TZID=America/New_York:20180916T170000
DTSTAMP:20260419T111812
CREATED:20190330T213059Z
LAST-MODIFIED:20190330T213059Z
UID:5020-1537110000-1537117200@www.nlchs.org
SUMMARY:148th Annual Meeting
DESCRIPTION:The NLCHS invites you to join us at 3pm on September 16th in historic Shaw Mansion for our 148th Annual Meeting. \nFinding Resolute \nThis year we feature two digital productions concerning the whaling bark George Henry. While on a whaling expedition in 1855\, George Henry discovered the abandoned HMS Resolute abandoned in the ice.  Captain James Buddington ordered the crew abandon their whaling mission and begin the salvage of Resolute. \nHMS Resolute was one of several ships engaged in the search for the lost Franklin expedition.  Five years later\, George Henry\, under the command of Sidney Buddington\, went in search of the same lost expedition. \nFinding the Resolute and Tookoolito describe two events in our maritime history which involve the George Henry.
URL:https://www.nlchs.org/event/148th-annual-meeting/
CATEGORIES:NLCHS Meetings
END:VEVENT
END:VCALENDAR